View In:
ArcGIS JavaScript
ArcGIS Online Map Viewer
ArcGIS Earth
ArcMap
View Footprint In:
ArcGIS Online Map Viewer
Service Description: This is the 2020 1m DTM LIDAR Composite Tinted Shaded Relief model produced by the Environment Agency. The Tinted Shaded Relief (TSR) is a color 3D representation of the terrain, created by merging the images from the Elevation-coded and Hillshade methods. Please refer to the Open Government Licence (OGLv3) for reuse. Raw data can be downloaded from www.environment.data.gov.uk.
Name: SURVEY/LIDAR_Composite_1m_DTM_2020_TSR
Description: This is the 2020 1m DTM LIDAR Composite Tinted Shaded Relief model produced by the Environment Agency. The Tinted Shaded Relief (TSR) is a color 3D representation of the terrain, created by merging the images from the Elevation-coded and Hillshade methods. Please refer to the Open Government Licence (OGLv3) for reuse. Raw data can be downloaded from www.environment.data.gov.uk.
Single Fused Map Cache: false
Extent:
XMin: 80000
YMin: 0
XMax: 660000
YMax: 665000
Spatial Reference: 27700
(27700)
Initial Extent:
XMin: 80000
YMin: 0
XMax: 660000
YMax: 665000
Spatial Reference: 27700
(27700)
Full Extent:
XMin: 80000
YMin: 0
XMax: 660000
YMax: 665000
Spatial Reference: 27700
(27700)
Pixel Size X: 1.0
Pixel Size Y: 1.0
Band Count: 1
Pixel Type: F32
RasterFunction Infos: {"rasterFunctionInfos": [
{
"name": "TSR",
"description": "Creates a multiband, color coded, 3D representation of the surface, with the sun's relative position taken into account for shading the image.",
"help": ""
},
{
"name": "None",
"description": "A No-Op Function.",
"help": ""
}
]}
Mensuration Capabilities: Basic
Has Histograms: true
Has Colormap: false
Has Multi Dimensions : false
Rendering Rule:
Min Scale: 0
Max Scale: 0
Copyright Text:
Service Data Type: esriImageServiceDataTypeElevation
Min Values: -48.52693176269531
Max Values: 976.2142333984375
Mean Values: 92.27914930897958
Standard Deviation Values: 95.47312954898561
Object ID Field: OBJECTID
Fields:
-
OBJECTID
(
type: esriFieldTypeOID, alias: OBJECTID
)
-
Shape
(
type: esriFieldTypeGeometry, alias: Shape
)
-
Name
(
type: esriFieldTypeString, alias: Name, length: 200
)
-
MinPS
(
type: esriFieldTypeDouble, alias: MinPS
)
-
MaxPS
(
type: esriFieldTypeDouble, alias: MaxPS
)
-
LowPS
(
type: esriFieldTypeDouble, alias: LowPS
)
-
HighPS
(
type: esriFieldTypeDouble, alias: HighPS
)
-
Category
(
type: esriFieldTypeInteger, alias: Category
, Coded Values:
[0: Unknown]
, [1: Primary]
, [2: Overview]
, ...6 more...
)
-
Tag
(
type: esriFieldTypeString, alias: Tag, length: 100
)
-
GroupName
(
type: esriFieldTypeString, alias: GroupName, length: 100
)
-
ProductName
(
type: esriFieldTypeString, alias: ProductName, length: 100
)
-
CenterX
(
type: esriFieldTypeDouble, alias: CenterX
)
-
CenterY
(
type: esriFieldTypeDouble, alias: CenterY
)
-
ZOrder
(
type: esriFieldTypeInteger, alias: ZOrder
)
-
Shape_Length
(
type: esriFieldTypeDouble, alias: Shape_Length
)
-
Shape_Area
(
type: esriFieldTypeDouble, alias: Shape_Area
)
Default Mosaic Method: Northwest
Allowed Mosaic Methods: NorthWest,LockRaster,ByAttribute,None
SortField:
SortValue: null
Mosaic Operator: First
Default Compression Quality: 10000
Default Resampling Method: Bilinear
Max Record Count: 500
Max Image Height: 4100
Max Image Width: 15000
Max Download Image Count: 500
Max Mosaic Image Count: 30
Allow Raster Function: true
Allow Copy: null
Allow Analysis: null
Allow Compute TiePoints: false
Supports Statistics: true
Supports Advanced Queries: true
Use StandardizedQueries: true
Raster Type Infos:
Name: Raster Dataset
Description: Supports all ArcGIS Raster Datasets
Help:
Has Raster Attribute Table: false
Edit Fields Info: null
Ownership Based AccessControl For Rasters: null
Child Resources:
Info
Histograms
Key Properties
Legend
Raster Function Infos
Supported Operations:
Export Image
Query
Identify
Measure
Compute Histograms
Compute Statistics Histograms
Get Samples
Compute Class Statistics
Query Boundary
Compute Pixel Location
Validate
Project
Calculate Volume